BEGIN:VCALENDAR
VERSION:2.0
PRODID:icalendar-ruby
CALSCALE:GREGORIAN
METHOD:PUBLISH
BEGIN:VEVENT
DTSTAMP:20260425T234154Z
UID:101-252095@cacdinuba.com
DTSTART:20261004T170000Z
DTEND:20261004T193000Z
CLASS:PUBLIC
CREATED:20260425T155658
DESCRIPTION:
LAST-MODIFIED:20260425T155658
LOCATION:1013 N Alta
SUMMARY:Sunday AM Worship
URL;VALUE=URI:https://cacdinuba.com/events/sunday-am-worship/2026-10-04
END:VEVENT
END:VCALENDAR
