BEGIN:VCALENDAR
VERSION:2.0
PRODID:icalendar-ruby
CALSCALE:GREGORIAN
METHOD:PUBLISH
BEGIN:VEVENT
DTSTAMP:20260425T220305Z
UID:101-251918@cacdinuba.com
DTSTART:20260927T170000Z
DTEND:20260927T193000Z
CLASS:PUBLIC
CREATED:20260425T131442
DESCRIPTION:
LAST-MODIFIED:20260425T131442
LOCATION:1013 N Alta
SUMMARY:Sunday AM Worship
URL;VALUE=URI:https://cacdinuba.com/events/sunday-am-worship/2026-09-27
END:VEVENT
END:VCALENDAR
