BEGIN:VCALENDAR
VERSION:2.0
PRODID:icalendar-ruby
CALSCALE:GREGORIAN
METHOD:PUBLISH
BEGIN:VEVENT
DTSTAMP:20260423T123050Z
UID:100-249229@cacdinuba.com
DTSTART:20261005T010000Z
DTEND:20261005T033000Z
CLASS:PUBLIC
CREATED:20260423T052339
DESCRIPTION:
LAST-MODIFIED:20260423T052339
LOCATION:1013 N Alta
SUMMARY:NO Sunday PM Worship
URL;VALUE=URI:https://cacdinuba.com/events/no-sunday-pm-worship/2026-10-04
END:VEVENT
END:VCALENDAR
