BEGIN:VCALENDAR
VERSION:2.0
PRODID:icalendar-ruby
CALSCALE:GREGORIAN
METHOD:PUBLISH
BEGIN:VEVENT
DTSTAMP:20260423T055605Z
UID:100-249050@cacdinuba.com
DTSTART:20260907T010000Z
DTEND:20260907T033000Z
CLASS:PUBLIC
CREATED:20260422T195323
DESCRIPTION:
LAST-MODIFIED:20260422T195323
LOCATION:1013 N Alta
SUMMARY:NO Sunday PM Worship
URL;VALUE=URI:https://cacdinuba.com/events/no-sunday-pm-worship/2026-09-06
END:VEVENT
END:VCALENDAR
