BEGIN:VCALENDAR
VERSION:2.0
PRODID:icalendar-ruby
CALSCALE:GREGORIAN
METHOD:PUBLISH
BEGIN:VEVENT
DTSTAMP:20260423T023749Z
UID:100-248873@cacdinuba.com
DTSTART:20260824T010000Z
DTEND:20260824T033000Z
CLASS:PUBLIC
CREATED:20260422T165917
DESCRIPTION:
LAST-MODIFIED:20260422T165917
LOCATION:1013 N Alta
SUMMARY:NO Sunday PM Worship
URL;VALUE=URI:https://cacdinuba.com/events/no-sunday-pm-worship/2026-08-23
END:VEVENT
END:VCALENDAR
