BEGIN:VCALENDAR
VERSION:2.0
PRODID:icalendar-ruby
CALSCALE:GREGORIAN
METHOD:PUBLISH
BEGIN:VEVENT
DTSTAMP:20260422T232854Z
UID:100-248696@cacdinuba.com
DTSTART:20260810T010000Z
DTEND:20260810T033000Z
CLASS:PUBLIC
CREATED:20260422T140734
DESCRIPTION:
LAST-MODIFIED:20260422T140734
LOCATION:1013 N Alta
SUMMARY:NO Sunday PM Worship
URL;VALUE=URI:https://cacdinuba.com/events/no-sunday-pm-worship/2026-08-09
END:VEVENT
END:VCALENDAR
