BEGIN:VCALENDAR
VERSION:2.0
PRODID:icalendar-ruby
CALSCALE:GREGORIAN
METHOD:PUBLISH
BEGIN:VEVENT
DTSTAMP:20260422T170725Z
UID:100-248342@cacdinuba.com
DTSTART:20260713T010000Z
DTEND:20260713T033000Z
CLASS:PUBLIC
CREATED:20260422T081731
DESCRIPTION:
LAST-MODIFIED:20260422T081731
LOCATION:1013 N Alta
SUMMARY:NO Sunday PM Worship
URL;VALUE=URI:https://cacdinuba.com/events/no-sunday-pm-worship/2026-07-12
END:VEVENT
END:VCALENDAR
