BEGIN:VCALENDAR
VERSION:2.0
PRODID:icalendar-ruby
CALSCALE:GREGORIAN
METHOD:PUBLISH
BEGIN:VEVENT
DTSTAMP:20260422T140721Z
UID:100-248165@cacdinuba.com
DTSTART:20260615T010000Z
DTEND:20260615T033000Z
CLASS:PUBLIC
CREATED:20260422T052223
DESCRIPTION:
LAST-MODIFIED:20260422T052223
LOCATION:1013 N Alta
SUMMARY:NO Sunday PM Worship
URL;VALUE=URI:https://cacdinuba.com/events/no-sunday-pm-worship/2026-06-14
END:VEVENT
END:VCALENDAR
