BEGIN:VCALENDAR
VERSION:2.0
PRODID:icalendar-ruby
CALSCALE:GREGORIAN
METHOD:PUBLISH
BEGIN:VEVENT
DTSTAMP:20260422T090315Z
UID:100-247989@cacdinuba.com
DTSTART:20260518T010000Z
DTEND:20260518T033000Z
CLASS:PUBLIC
CREATED:20260421T181603
DESCRIPTION:
LAST-MODIFIED:20260421T181603
LOCATION:1013 N Alta
SUMMARY:NO Sunday PM Worship
URL;VALUE=URI:https://cacdinuba.com/events/no-sunday-pm-worship/2026-05-17
END:VEVENT
END:VCALENDAR
